Workbook
Name DatiGrafico: OFFSET('Tabelle Risorse e Impieghi'!$AH$7,,,COUNTA(_xlfn.ANCHORARRAY('Tabelle Risorse e Impieghi'!$AG$7)),1)
Name NomiGrafico: OFFSET('Tabelle Risorse e Impieghi'!$AG$7,,,COUNTA(_xlfn.ANCHORARRAY('Tabelle Risorse e Impieghi'!$AG$7)),1)
Name servizio: 'Tabelle Risorse e Impieghi'!$T$161:$T$186
Name Vettori_en: 'Tabelle Risorse e Impieghi'!$C$161:$C$186

Sheet Tabelle Risorse e Impieghi
F1: Contabilità Energetica e nomima dell'energy manager
O3: R01s 19/3/2025
F6: La presente cartella vuole essere uno strumento di supporto per gli energy manager e gli EGE alla contabilità energetica.
F7: È stato integrato il calcolo dei consumi per la nomina dell'energy manager ai sensi della legge 10/1991. Al fine di evitare errori di calcolo, dal momento che le logiche alla base della contabilità energetica possono non essere coincidenti con quelle dell'art. 19 della legge 10/1991,
F8: si rimanda a quanto indicato nel sito https://em.fire-italia.org (incluse le FAQ) circa il corretto conteggio dei consumi ai fini della nomina stessa.
F9: ="Per la nomina dell'energy manager vengono conteggiate le sezioni A, B ed E, ovvero dalla riga "&ROW(C36)+1& " alla riga "&ROW(C49)-1&" e dalla riga "&ROW(C63)+1& " alla riga "&ROW(C66)-1&". Il risultato è alla riga "&ROW(C89)&"." -> Per la nomina dell'energy manager vengono conteggiate le sezioni A, B ed E, ovvero dalla riga 37 alla riga 48 e dalla riga 64 alla riga 65. Il risultato è alla riga 89.
F11: ="Si possono inserire o modificare i dati delle celle bianche (solo nelle tabelle 'risorse', 'impieghi' e 'fattori di conversione'), gialle e verdi. Alle righe "&ROW(B33)&" e "&ROW(C34)&" scegliere prima il vettore e poi l'unità di misura. →" -> Si possono inserire o modificare i dati delle celle bianche (solo nelle tabelle 'risorse', 'impieghi' e 'fattori di conversione'), gialle e verdi. Alle righe 33 e 34 scegliere prima il vettore e poi l'unità di misura. →
F13: Le seguenti tabelle si basano sulla guida alla contabilità energetica sviluppata in collaborazione tra FIRE e AssoEGE.
F14: https://fire-italia.org/proposta-di-modello-comune-per-la-contabilita-energetica-rivolta-ai-consumatori-di-energia-finale/
F16: N.B. In questa cartella sono stati utilizzati i coefficienti di conversione fra unità di misura impiegati nel foglio per la nomina dell'energy manager ai sensi della legge 10/1991.
F17: ="È possibile utilizzare valori più precisi, soprattutto per combustibili come le biomasse solide e acquisti di fluidi termovettori, laddove disponibili, inserendoli nella tabella '"&C159&"' cella "&ADDRESS(ROW(C159),COLUMN(C159),4,1)&" Vedi anche '"&I191&"' cella "&ADDRESS(ROW(I191),COLUMN(I191),4,1)&"." -> È possibile utilizzare valori più precisi, soprattutto per combustibili come le biomasse solide e acquisti di fluidi termovettori, laddove disponibili, inserendoli nella tabella 'FATTORI DI CONVERSIONE' cella C159 Vedi anche 'N.B. si possono aggiungere:' cella I191.
F18: Nel caso della conversione in tep di elettricità e calore si ricorda che per la nomina dell'energy manager si tiene conto anche delle perdite di trasformazione e/o trasporto.
F19: Questo porta a una differenza rispetto a sistemi statistici come Eurostat, di cui occorre tenere conto. Nella conversione in MWh e TJ è stato invece usato l'approccio Eurostat (no perdite di trasformazione, 1MWhe=1MWht=1MWh).
F20: ="L'unità di misura comune può essere scelta (cella "&ADDRESS(ROW(H157),COLUMN(H157),4,1)&") tra TJ, MWh o tep, ma è possibile sostituirle con altre, inserendo i coefficienti di conversione nella tabella '"&Y159&"'. Vedi anche '"&I191&"' cella "&ADDRESS(ROW(I191),COLUMN(I191),4,1)&"." -> L'unità di misura comune può essere scelta (cella H157) tra TJ, MWh o tep, ma è possibile sostituirle con altre, inserendo i coefficienti di conversione nella tabella 'Unità di misura standardizzata (UMC)'. Vedi anche 'N.B. si possono aggiungere:' cella I191.
F22: I fattori di emissione per i combustibili sono quelli del meccanismo emission trading (quindi CO2 e non CO2eq vedi tabella nel foglio "Tabella parametri standard nazionali") in particolare quelli riferiti al contenuto energetico del vettore (es. tCO2/TJ).
F23: Nel caso di teleriscaldamento, servizio energia, etc. verificare i valori con il fornitore. Per la scelta del coefficiente di emissione dell'energia elettrica ci sono approcci diversi, verificare con fornitore e altri portatori di interesse.
F24: Non sono invece stati considerati i poteri calorifici presenti nella tabella stessa, che differiscono da quelli usati per la nomina dell'energy manager. Questo porta ad alcune differenze, soprattutto per biomasse solide.
F25: ="Anche per i fattori di emissione è possibile inserire nella tabella "&AH159&" (cella "&ADDRESS(ROW(AH159),COLUMN(AH159),4,1)&") valori differenti qualora sia opportuno; per esempio nel caso della rendicontazione non finanziaria della sostenibilità." -> Anche per i fattori di emissione è possibile inserire nella tabella FATTORI DI EMISSIONE (cella AH159) valori differenti qualora sia opportuno; per esempio nel caso della rendicontazione non finanziaria della sostenibilità.
B26: Anno: | F26: ="I fattori di emissione per la '"&B92&"' possono essere diversi (per esempio se ci sono pompe di calore, cogenerazione, etc.). Si possono quindi inserire fattori di emissione ad hoc sotto la cella "&ADDRESS(ROW(AD160),COLUMN(AD160),4,1)&" '"&AD160&"'." -> I fattori di emissione per la 'Tabella degli Impieghi' possono essere diversi (per esempio se ci sono pompe di calore, cogenerazione, etc.). Si possono quindi inserire fattori di emissione ad hoc sotto la cella AD160 'FE impieghi'.
B27: 2024
F28: FIRE declina ogni responsabiltà per ogni eventuale danno o problema causato dall'uso di questa cartella di lavoro.
B30: Tabella delle Risorse
B31: APPROVVIGIONAMENTO, PRODUZIONE INTERNA, VENDITA, ACCUMULO, USO NON-ENERGETICO, TRASFORMAZIONE
F32: =ROMAN(1+QUOTIENT(COLUMN(F32)-COLUMN($F32),2)) -> I | H32: =ROMAN(1+QUOTIENT(COLUMN(H32)-COLUMN($F32),2)) -> II | J32: =ROMAN(1+QUOTIENT(COLUMN(J32)-COLUMN($F32),2)) -> III | L32: =ROMAN(1+QUOTIENT(COLUMN(L32)-COLUMN($F32),2)) -> IV | N32: =ROMAN(1+QUOTIENT(COLUMN(N32)-COLUMN($F32),2)) -> V | P32: =ROMAN(1+QUOTIENT(COLUMN(P32)-COLUMN($F32),2)) -> VI | R32: =ROMAN(1+QUOTIENT(COLUMN(R32)-COLUMN($F32),2)) -> VII
B33: Tabella delle Risorse | U33: Totale | X33: CO2
B34: Anno: | G34: =$H$157 -> TJ | I34: =$H$157 -> TJ | K34: =$H$157 -> TJ | M34: =$H$157 -> TJ | O34: =$H$157 -> TJ | Q34: =$H$157 -> TJ | S34: =$H$157 -> TJ | U34: =$H$157 -> TJ | V34: % | X34: t
B35: =B27 -> 2024
B36: A | C36: Approvvigionamenti energetici lordi
B37: =B$36&"."&ROW(B37)-ROW(B$36) -> A.1 | C37: Da utility pubbliche (es. rete elettrica, rete gas) | G37: =IFERROR(IF(F37<>0,F37*G$131,""),"") | I37: =IFERROR(IF(H37<>0,H37*I$131,""),"") | K37: =IFERROR(IF(J37<>0,J37*K$131,""),"") | M37: =IFERROR(IF(L37<>0,L37*M$131,""),"") | O37: =IFERROR(IF(N37<>0,N37*O$131,""),"") | Q37: =IFERROR(IF(P37<>0,P37*Q$131,""),"") | S37: =IFERROR(IF(R37<>0,R37*S$131,""),"") | U37: =IF(SUMIF($F$34:$S$34,$U$34,F37:S37)<>0,SUMIF($F$34:$S$34,$U$34,F37:S37),"") | V37: =IF(AND(U37<>0,U37<>""),U37/U$51,"") | X37: =IF(SUMPRODUCT(F37:S37,$F$145:$S$145)<>0,IF(E37<>"R",SUMPRODUCT(F37:S37,$F$145:$S$145),0),"")
B38: =B$36&"."&ROW(B38)-ROW(B$36) -> A.2 | C38: Fornitura in batch (es. autocisterna) | G38: =IFERROR(IF(F38<>0,F38*G$131,""),"") | I38: =IFERROR(IF(H38<>0,H38*I$131,""),"") | K38: =IFERROR(IF(J38<>0,J38*K$131,""),"") | M38: =IFERROR(IF(L38<>0,L38*M$131,""),"") | O38: =IFERROR(IF(N38<>0,N38*O$131,""),"") | Q38: =IFERROR(IF(P38<>0,P38*Q$131,""),"") | S38: =IFERROR(IF(R38<>0,R38*S$131,""),"") | U38: =IF(SUMIF($F$34:$S$34,$U$34,F38:S38)<>0,SUMIF($F$34:$S$34,$U$34,F38:S38),"") | V38: =IF(AND(U38<>0,U38<>""),U38/U$51,"") | X38: =IF(SUMPRODUCT(F38:S38,$F$145:$S$145)<>0,IF(D39<>"R",SUMPRODUCT(F38:S38,$F$145:$S$145),0),"")
B39: =B$36&"."&ROW(B39)-ROW(B$36) -> A.3 | C39: Da attività di generazione in loco gestite da terzi | G39: =IFERROR(IF(F39<>0,F39*G$131,""),"") | I39: =IFERROR(IF(H39<>0,H39*I$131,""),"") | K39: =IFERROR(IF(J39<>0,J39*K$131,""),"") | M39: =IFERROR(IF(L39<>0,L39*M$131,""),"") | O39: =IFERROR(IF(N39<>0,N39*O$131,""),"") | Q39: =IFERROR(IF(P39<>0,P39*Q$131,""),"") | S39: =IFERROR(IF(R39<>0,R39*S$131,""),"") | U39: =IF(SUMIF($F$34:$S$34,$U$34,F39:S39)<>0,SUMIF($F$34:$S$34,$U$34,F39:S39),"") | V39: =IF(AND(U39<>0,U39<>""),U39/U$51,"") | X39: =IF(SUMPRODUCT(F39:S39,$F$145:$S$145)<>0,IF(E39<>"R",SUMPRODUCT(F39:S39,$F$145:$S$145),0),"")
B40: Totale approvvigionamenti energetici lordi | F40: =SUM(F37:F39) -> 0 | G40: =SUM(G37:G39) -> 0 | H40: =SUM(H37:H39) -> 0 | I40: =SUM(I37:I39) -> 0 | J40: =SUM(J37:J39) -> 0 | K40: =SUM(K37:K39) -> 0 | L40: =SUM(L37:L39) -> 0 | M40: =SUM(M37:M39) -> 0 | ... S40: =SUM(S37:S39) -> 0 | U40: =SUM(U36:U39) -> 0 | V40: =IF(U40<>0,U40/U$51,"") | X40: {=IF(SUM(((F40:S40)-(F41:S41))*$F$145:$S$145)<>0,SUM(((F40:S40)-(F41:S41))*$F$145:$S$145),"")}
C41: Di cui rinnovabili | F41: =SUMIF($E37:$E39,"R",F37:F39) -> 0 | G41: =F41*G$131 -> 0 | H41: =SUMIF($E37:$E39,"R",H37:H39) -> 0 | I41: =H41*I$131 -> 0 | J41: =SUMIF($E37:$E39,"R",J37:J39) -> 0 | K41: =J41*K$131 -> 0 | L41: =SUMIF($E37:$E39,"R",L37:L39) -> 0 | M41: =L41*M$131 -> 0 | N41: =SUMIF($E37:$E39,"R",N37:N39) -> 0 | O41: =N41*O$131 -> 0 | P41: =SUMIF($E37:$E39,"R",P37:P39) -> 0 | Q41: =P41*Q$131 -> 0 | R41: =SUMIF($E37:$E39,"R",R37:R39) -> 0 | S41: =R41*S$131 -> 0 | U41: =SUMIF($F$34:$S$34,$U$34,F41:S41) -> 0 | V41: =IF(U41<>0,U41/U$51,"")
B42: B | C42: Produzione e recupero di energia nel confine
B43: =B$42&"."&ROW(B43)-ROW(B$42) -> B.1 | C43: Impianto biogas | G43: =IFERROR(IF(F43<>0,F43*G$131,""),"") | I43: =IFERROR(IF(H43<>0,H43*I$131,""),"") | K43: =IFERROR(IF(J43<>0,J43*K$131,""),"") | M43: =IF(L43<>0,L43*M$131,"") | O43: =IFERROR(IF(N43<>0,N43*O$131,""),"") | Q43: =IFERROR(IF(P43<>0,P43*Q$131,""),"") | S43: =IFERROR(IF(R43<>0,R43*S$131,""),"") | U43: =IF(SUMIF($F$34:$S$34,$U$34,F43:S43)<>0,SUMIF($F$34:$S$34,$U$34,F43:S43),"") | V43: =IF(AND(U43<>0,U43<>""),U43/U$51,"") | X43: =IF(SUMPRODUCT(F43:S43,$F$145:$S$145)<>0,IF(E43<>"R",SUMPRODUCT(F43:S43,$F$145:$S$145),0),"")
B44: =B$42&"."&ROW(B44)-ROW(B$42) -> B.2 | C44: Impianto solare termico | G44: =IFERROR(IF(F44<>0,F44*G$131,""),"") | I44: =IFERROR(IF(H44<>0,H44*I$131,""),"") | K44: =IFERROR(IF(J44<>0,J44*K$131,""),"") | M44: =IF(L44<>0,L44*M$131,"") | O44: =IFERROR(IF(N44<>0,N44*O$131,""),"") | Q44: =IFERROR(IF(P44<>0,P44*Q$131,""),"") | S44: =IFERROR(IF(R44<>0,R44*S$131,""),"") | U44: =IF(SUMIF($F$34:$S$34,$U$34,F44:S44)<>0,SUMIF($F$34:$S$34,$U$34,F44:S44),"") | V44: =IF(AND(U44<>0,U44<>""),U44/U$51,"") | X44: =IF(SUMPRODUCT(F44:S44,$F$145:$S$145)<>0,IF(E44<>"R",SUMPRODUCT(F44:S44,$F$145:$S$145),0),"")
B45: =B$42&"."&ROW(B45)-ROW(B$42) -> B.3 | C45: Impianto fotovoltaico | G45: =IFERROR(IF(F45<>0,F45*G$131,""),"") | I45: =IFERROR(IF(H45<>0,H45*I$131,""),"") | K45: =IFERROR(IF(J45<>0,J45*K$131,""),"") | M45: =IF(L45<>0,L45*M$131,"") | O45: =IFERROR(IF(N45<>0,N45*O$131,""),"") | Q45: =IFERROR(IF(P45<>0,P45*Q$131,""),"") | S45: =IFERROR(IF(R45<>0,R45*S$131,""),"") | U45: =IF(SUMIF($F$34:$S$34,$U$34,F45:S45)<>0,SUMIF($F$34:$S$34,$U$34,F45:S45),"") | V45: =IF(AND(U45<>0,U45<>""),U45/U$51,"") | X45: =IF(SUMPRODUCT(F45:S45,$F$145:$S$145)<>0,IF(E45<>"R",SUMPRODUCT(F45:S45,$F$145:$S$145),0),"")
B46: =B$42&"."&ROW(B46)-ROW(B$42) -> B.4 | C46: Energia termica recuperata dall'ambiente | G46: =IFERROR(IF(F46<>0,F46*G$131,""),"") | I46: =IFERROR(IF(H46<>0,H46*I$131,""),"") | K46: =IFERROR(IF(J46<>0,J46*K$131,""),"") | M46: =IF(L46<>0,L46*M$131,"") | O46: =IFERROR(IF(N46<>0,N46*O$131,""),"") | Q46: =IFERROR(IF(P46<>0,P46*Q$131,""),"") | S46: =IFERROR(IF(R46<>0,R46*S$131,""),"") | U46: =IF(SUMIF($F$34:$S$34,$U$34,F46:S46)<>0,SUMIF($F$34:$S$34,$U$34,F46:S46),"") | V46: =IF(AND(U46<>0,U46<>""),U46/U$51,"") | X46: =IF(SUMPRODUCT(F46:S46,$F$145:$S$145)<>0,IF(E46<>"R",SUMPRODUCT(F46:S46,$F$145:$S$145),0),"")
B47: =B$42&"."&ROW(B47)-ROW(B$42) -> B.5 | C47: Energia termica recuperata da processi sul sito | G47: =IFERROR(IF(F47<>0,F47*G$131,""),"") | I47: =IFERROR(IF(H47<>0,H47*I$131,""),"") | K47: =IFERROR(IF(J47<>0,J47*K$131,""),"") | M47: =IF(L47<>0,L47*M$131,"") | O47: =IFERROR(IF(N47<>0,N47*O$131,""),"") | Q47: =IFERROR(IF(P47<>0,P47*Q$131,""),"") | S47: =IFERROR(IF(R47<>0,R47*S$131,""),"") | U47: =IF(SUMIF($F$34:$S$34,$U$34,F47:S47)<>0,SUMIF($F$34:$S$34,$U$34,F47:S47),"") | V47: =IF(AND(U47<>0,U47<>""),U47/U$51,"") | X47: =IF(SUMPRODUCT(F47:S47,$F$145:$S$145)<>0,IF(E47<>"R",SUMPRODUCT(F47:S47,$F$145:$S$145),0),"")
B48: =B$42&"."&ROW(B48)-ROW(B$42) -> B.6 | C48: Energia da scarti della produzione | G48: =IFERROR(IF(F48<>0,F48*G$131,""),"") | I48: =IFERROR(IF(H48<>0,H48*I$131,""),"") | K48: =IFERROR(IF(J48<>0,J48*K$131,""),"") | M48: =IF(L48<>0,L48*M$131,"") | O48: =IFERROR(IF(N48<>0,N48*O$131,""),"") | Q48: =IFERROR(IF(P48<>0,P48*Q$131,""),"") | S48: =IFERROR(IF(R48<>0,R48*S$131,""),"") | U48: =IF(SUMIF($F$34:$S$34,$U$34,F48:S48)<>0,SUMIF($F$34:$S$34,$U$34,F48:S48),"") | V48: =IF(AND(U48<>0,U48<>""),U48/U$51,"") | X48: =IF(SUMPRODUCT(F48:S48,$F$145:$S$145)<>0,IF(E48<>"R",SUMPRODUCT(F48:S48,$F$145:$S$145),0),"")
B49: Totale produzione e recupero di energia nel confine | F49: =SUM(F43:F48) -> 0 | G49: =SUM(G43:G48) -> 0 | H49: =SUM(H43:H48) -> 0 | I49: =SUM(I43:I48) -> 0 | J49: =SUM(J43:J48) -> 0 | K49: =SUM(K43:K48) -> 0 | L49: =SUM(L43:L48) -> 0 | M49: =SUM(M43:M48) -> 0 | ... S49: =SUM(S43:S48) -> 0 | U49: =SUM(U43:U48) -> 0 | V49: =IF(U49<>0,U49/U$51,"") | X49: {=SUM(((F49:S49)-(F50:S50))*$F$145:$S$145)} -> 0
C50: Di cui rinnovabili | F50: =SUMIF($E43:$E48,"R",F43:F48) -> 0 | G50: =F50*G$131 -> 0 | H50: =SUMIF($E43:$E48,"R",H43:H48) -> 0 | I50: =H50*I$131 -> 0 | J50: =SUMIF($E43:$E48,"R",J43:J48) -> 0 | K50: =J50*K$131 -> 0 | L50: =SUMIF($E43:$E48,"R",L43:L48) -> 0 | M50: =L50*M$131 -> 0 | N50: =SUMIF($E43:$E48,"R",N43:N48) -> 0 | O50: =N50*O$131 -> 0 | P50: =SUMIF($E43:$E48,"R",P43:P48) -> 0 | Q50: =P50*Q$131 -> 0 | R50: =SUMIF($E43:$E48,"R",R43:R48) -> 0 | S50: =R50*S$131 -> 0 | U50: =SUMIF($F$34:$S$34,$U$34,F50:S50) -> 0 | V50: =IF(U50<>0,U50/U$51,"")
B51: ST1: Totale di energia disponibile all'interno del confine | F51: =F49+F40 -> 0 | G51: =G49+G40 -> 0 | H51: =H49+H40 -> 0 | I51: =I49+I40 -> 0 | J51: =J49+J40 -> 0 | K51: =K49+K40 -> 0 | L51: =L49+L40 -> 0 | M51: =M49+M40 -> 0 | ... S51: =S49+S40 -> 0 | U51: =U49+U40 -> 0 | V51: =IF(U51<>0,U51/U$51,"") | X51: {=SUM(((F51:S51)-(F52:S52))*$F$145:$S$145)} -> 0
C52: ST1= A+B Di cui rinnovabili | F52: =F50+F41 -> 0 | G52: =F52*G$131 -> 0 | H52: =H50+H41 -> 0 | I52: =H52*I$131 -> 0 | J52: =J50+J41 -> 0 | K52: =J52*K$131 -> 0 | L52: =L50+L41 -> 0 | M52: =L52*M$131 -> 0 | N52: =N50+N41 -> 0 | O52: =N52*O$131 -> 0 | P52: =P50+P41 -> 0 | Q52: =P52*Q$131 -> 0 | R52: =R50+R41 -> 0 | S52: =R52*S$131 -> 0 | U52: =U50+U41 -> 0 | V52: =IF(U52<>0,U52/U$51,"")
B53: C | C53: Cessione di energia fuori dal confine | Z53: ="N.B. anche per le emissioni i valori di queste righe vengono sottratti da ST1 (riga "&ROW(X51)&") per calcolare ST2 (riga "&ROW(X68)&")" -> N.B. anche per le emissioni i valori di queste righe vengono sottratti da ST1 (riga 51) per calcolare ST2 (riga 68)
B54: =B$53&"."&ROW(B54)-ROW(B$53) -> C.1 | C54: Cessione di energia elettrica | G54: =IFERROR(IF(F54<>0,F54*G$131,""),"") | I54: =IFERROR(IF(H54<>0,H54*I$131,""),"") | K54: =IFERROR(IF(J54<>0,J54*K$131,""),"") | M54: =IFERROR(IF(L54<>0,L54*M$131,""),"") | O54: =IFERROR(IF(N54<>0,N54*O$131,""),"") | Q54: =IFERROR(IF(P54<>0,P54*Q$131,""),"") | S54: =IFERROR(IF(R54<>0,R54*S$131,""),"") | U54: =IF(SUMIF($F$34:$S$34,$U$34,F54:S54)<>0,SUMIF($F$34:$S$34,$U$34,F54:S54),"") | V54: =IF(AND(U54<>0,U54<>""),U54/U$51,"") | X54: =IF(SUMPRODUCT(F54:S54,$F$145:$S$145)<>0,IF(E54<>"R",SUMPRODUCT(F54:S54,$F$145:$S$145),0),"")
B55: =B$53&"."&ROW(B55)-ROW(B$53) -> C.2 | C55: Cessione di biogas | G55: =IFERROR(IF(F55<>0,F55*G$131,""),"") | I55: =IFERROR(IF(H55<>0,H55*I$131,""),"") | K55: =IFERROR(IF(J55<>0,J55*K$131,""),"") | M55: =IFERROR(IF(L55<>0,L55*M$131,""),"") | O55: =IFERROR(IF(N55<>0,N55*O$131,""),"") | Q55: =IFERROR(IF(P55<>0,P55*Q$131,""),"") | S55: =IFERROR(IF(R55<>0,R55*S$131,""),"") | U55: =IF(SUMIF($F$34:$S$34,$U$34,F55:S55)<>0,SUMIF($F$34:$S$34,$U$34,F55:S55),"") | V55: =IF(AND(U55<>0,U55<>""),U55/U$51,"") | X55: =IF(SUMPRODUCT(F55:S55,$F$145:$S$145)<>0,IF(E55<>"R",SUMPRODUCT(F55:S55,$F$145:$S$145),0),"")
C56: Totale cessioni di energia | F56: =SUM(F54:F55) -> 0 | G56: =SUM(G54:G55) -> 0 | H56: =SUM(H54:H55) -> 0 | I56: =SUM(I54:I55) -> 0 | J56: =SUM(J54:J55) -> 0 | K56: =SUM(K54:K55) -> 0 | L56: =SUM(L54:L55) -> 0 | M56: =SUM(M54:M55) -> 0 | ... S56: =SUM(S54:S55) -> 0 | U56: =SUM(U54:U55) -> 0 | V56: =IF(U56<>0,U56/U$51,"") | X56: {=SUM(((F56:S56)-(F57:S57))*$F$145:$S$145)} -> 0
C57: Di cui rinnovabili | F57: =SUMIF($E54:$E55,"R",F54:F55) -> 0 | G57: =F57*G$131 -> 0 | H57: =SUMIF($E54:$E55,"R",H54:H55) -> 0 | I57: =H57*I$131 -> 0 | J57: =SUMIF($E54:$E55,"R",J54:J55) -> 0 | K57: =J57*K$131 -> 0 | L57: =SUMIF($E54:$E55,"R",L54:L55) -> 0 | M57: =L57*M$131 -> 0 | N57: =SUMIF($E54:$E55,"R",N54:N55) -> 0 | O57: =N57*O$131 -> 0 | P57: =SUMIF($E54:$E55,"R",P54:P55) -> 0 | Q57: =P57*Q$131 -> 0 | R57: =SUMIF($E54:$E55,"R",R54:R55) -> 0 | S57: =R57*S$131 -> 0 | U57: =SUMIF($F$34:$S$34,$U$34,F57:S57) -> 0 | V57: =IF(U57<>0,U57/U$51,"")
B58: D | C58: Variazioni scorte*
B59: =B$58&"."&ROW(B59)-ROW(B$58) -> D.1 | C59: Scorte di gasolio | G59: =IFERROR(IF(F59<>0,F59*G$131,""),"") | I59: =IFERROR(IF(H59<>0,H59*I$131,""),"") | K59: =IFERROR(IF(J59<>0,J59*K$131,""),"") | M59: =IFERROR(IF(L59<>0,L59*M$131,""),"") | O59: =IF(N59<>0,N59*O$131,"") | Q59: =IFERROR(IF(P59<>0,P59*Q$131,""),"") | S59: =IFERROR(IF(R59<>0,R59*S$131,""),"") | U59: =IF(SUMIF($F$34:$S$34,$U$34,F59:S59)<>0,SUMIF($F$34:$S$34,$U$34,F59:S59),"") | V59: =IF(AND(U59<>0,U59<>""),U59/U$51,"") | X59: =IF(SUMPRODUCT(F59:S59,$F$145:$S$145)<>0,IF(E59<>"R",SUMPRODUCT(F59:S59,$F$145:$S$145),0),"")
B60: =B$58&"."&ROW(B60)-ROW(B$58) -> D.2 | C60: Scorta di combustibile solido | G60: =IFERROR(IF(F60<>0,F60*G$131,""),"") | I60: =IFERROR(IF(H60<>0,H60*I$131,""),"") | K60: =IFERROR(IF(J60<>0,J60*K$131,""),"") | M60: =IFERROR(IF(L60<>0,L60*M$131,""),"") | O60: =IF(N60<>0,N60*O$131,"") | Q60: =IFERROR(IF(P60<>0,P60*Q$131,""),"") | S60: =IFERROR(IF(R60<>0,R60*S$131,""),"") | U60: =IF(SUMIF($F$34:$S$34,$U$34,F60:S60)<>0,SUMIF($F$34:$S$34,$U$34,F60:S60),"") | V60: =IF(AND(U60<>0,U60<>""),U60/U$51,"") | X60: =IF(SUMPRODUCT(F60:S60,$F$145:$S$145)<>0,IF(E60<>"R",SUMPRODUCT(F60:S60,$F$145:$S$145),0),"")
C61: Totale variazioni scorte | F61: =SUM(F59:F60) -> 0 | G61: =SUM(G59:G60) -> 0 | H61: =SUM(H59:H60) -> 0 | I61: =SUM(I59:I60) -> 0 | J61: =SUM(J59:J60) -> 0 | K61: =SUM(K59:K60) -> 0 | L61: =SUM(L59:L60) -> 0 | M61: =SUM(M59:M60) -> 0 | ... S61: =SUM(S59:S60) -> 0 | U61: =SUM(U59:U60) -> 0 | V61: =IF(U61<>0,U61/U$51,"") | X61: {=SUM(((F61:S61)-(F62:S62))*$F$145:$S$145)} -> 0
C62: Di cui rinnovabili | F62: =SUMIF($E59:$E60,"R",F59:F60) -> 0 | G62: =F62*G$131 -> 0 | H62: =SUMIF($E59:$E60,"R",H59:H60) -> 0 | I62: =H62*I$131 -> 0 | J62: =SUMIF($E59:$E60,"R",J59:J60) -> 0 | K62: =J62*K$131 -> 0 | L62: =SUMIF($E59:$E60,"R",L59:L60) -> 0 | M62: =L62*M$131 -> 0 | N62: =SUMIF($E59:$E60,"R",N59:N60) -> 0 | O62: =N62*O$131 -> 0 | P62: =SUMIF($E59:$E60,"R",P59:P60) -> 0 | Q62: =P62*Q$131 -> 0 | R62: =SUMIF($E59:$E60,"R",R59:R60) -> 0 | S62: =R62*S$131 -> 0 | U62: =SUMIF($F$34:$S$34,$U$34,F62:S62) -> 0 | V62: =IF(U62<>0,U62/U$51,"")
B63: E | C63: Uso non energetico
B64: =B$63&"."&ROW(B64)-ROW(B$63) -> E.1 | C64: Materia prima per la produzione del Prodotto 1 | G64: =IFERROR(IF(F64<>0,F64*G$131,""),"") | I64: =IFERROR(IF(H64<>0,H64*I$131,""),"") | K64: =IFERROR(IF(J64<>0,J64*K$131,""),"") | M64: =IFERROR(IF(L64<>0,L64*M$131,""),"") | O64: =IF(N64<>0,N64*O$131,"") | Q64: =IFERROR(IF(P64<>0,P64*Q$131,""),"") | S64: =IFERROR(IF(R64<>0,R64*S$131,""),"") | U64: =IF(SUMIF($F$34:$S$34,$U$34,F64:S64)<>0,SUMIF($F$34:$S$34,$U$34,F64:S64),"") | V64: =IF(AND(U64<>0,U64<>""),U64/U$51,"") | X64: =IF(SUMPRODUCT(F64:S64,$F$145:$S$145)<>0,IF(E64<>"R",SUMPRODUCT(F64:S64,$F$145:$S$145),0),"")
B65: =B$63&"."&ROW(B65)-ROW(B$63) -> E.2 | C65: Materia prima per la produzione del Prodotto 2 | G65: =IFERROR(IF(F65<>0,F65*G$131,""),"") | I65: =IFERROR(IF(H65<>0,H65*I$131,""),"") | K65: =IFERROR(IF(J65<>0,J65*K$131,""),"") | M65: =IFERROR(IF(L65<>0,L65*M$131,""),"") | O65: =IF(N65<>0,N65*O$131,"") | Q65: =IFERROR(IF(P65<>0,P65*Q$131,""),"") | S65: =IFERROR(IF(R65<>0,R65*S$131,""),"") | U65: =IF(SUMIF($F$34:$S$34,$U$34,F65:S65)<>0,SUMIF($F$34:$S$34,$U$34,F65:S65),"") | V65: =IF(AND(U65<>0,U65<>""),U65/U$51,"") | X65: =IF(SUMPRODUCT(F65:S65,$F$145:$S$145)<>0,IF(E65<>"R",SUMPRODUCT(F65:S65,$F$145:$S$145),0),"")
C66: Totale uso non energetico | F66: =SUM(F64:F65) -> 0 | G66: =SUM(G64:G65) -> 0 | H66: =SUM(H64:H65) -> 0 | I66: =SUM(I64:I65) -> 0 | J66: =SUM(J64:J65) -> 0 | K66: =SUM(K64:K65) -> 0 | L66: =SUM(L64:L65) -> 0 | M66: =SUM(M64:M65) -> 0 | ... S66: =SUM(S64:S65) -> 0 | U66: =SUM(U64:U65) -> 0 | V66: =IF(U66<>0,U66/U$51,"") | X66: {=SUM(((F66:S66)-(F67:S67))*$F$145:$S$145)} -> 0
C67: Di cui rinnovabili | F67: =SUMIF($E64:$E65,"R",F64:F65) -> 0 | G67: =F67*G$131 -> 0 | H67: =SUMIF($E64:$E65,"R",H64:H65) -> 0 | I67: =H67*I$131 -> 0 | J67: =SUMIF($E64:$E65,"R",J64:J65) -> 0 | K67: =J67*K$131 -> 0 | L67: =SUMIF($E64:$E65,"R",L64:L65) -> 0 | M67: =L67*M$131 -> 0 | N67: =SUMIF($E64:$E65,"R",N64:N65) -> 0 | O67: =N67*O$131 -> 0 | P67: =SUMIF($E64:$E65,"R",P64:P65) -> 0 | Q67: =P67*Q$131 -> 0 | R67: =SUMIF($E64:$E65,"R",R64:R65) -> 0 | S67: =R67*S$131 -> 0 | U67: =SUMIF($F$34:$S$34,$U$34,F67:S67) -> 0 | V67: =IF(U67<>0,U67/U$51,"")
B68: ST2: Totale energia per trasformazioni ed usi finali | F68: =F51-F56-F61-F66 -> 0 | G68: =G51-G56-G61-G66 -> 0 | H68: =H51-H56-H61-H66 -> 0 | I68: =I51-I56-I61-I66 -> 0 | J68: =J51-J56-J61-J66 -> 0 | K68: =K51-K56-K61-K66 -> 0 | L68: =L51-L56-L61-L66 -> 0 | M68: =M51-M56-M61-M66 -> 0 | ... S68: =S51-S56-S61-S66 -> 0 | U68: =U51-U56-U61-U66 -> 0 | V68: =IF(U68<>0,U68/U$51,"") | X68: {=SUM(((F68:S68)-(F69:S69))*$F$145:$S$145)} -> 0
C69: ST2 = A+B-C-D-E Di cui rinnovabili | F69: =-F67-F62-F57+F52 -> 0 | G69: =F69*G$131 -> 0 | H69: =-H67-H62-H57+H52 -> 0 | I69: =H69*I$131 -> 0 | J69: =-J67-J62-J57+J52 -> 0 | K69: =J69*K$131 -> 0 | L69: =-L67-L62-L57+L52 -> 0 | M69: =L69*M$131 -> 0 | N69: =-N67-N62-N57+N52 -> 0 | O69: =N69*O$131 -> 0 | P69: =-P67-P62-P57+P52 -> 0 | Q69: =P69*Q$131 -> 0 | R69: =-R67-R62-R57+R52 -> 0 | S69: =R69*S$131 -> 0 | U69: =-U67-U62-U57+U52 -> 0 | V69: =IF(U69<>0,U69/U$51,"")
B70: F | C70: Energia per i processi di trasformazione
B71: =B$70&"."&ROW(B71)-ROW(B$70) -> F.1 | C71: Impianto di cogenerazione | G71: =IFERROR(IF(F71<>0,F71*G$131,""),"") | I71: =IFERROR(IF(H71<>0,H71*I$131,""),"") | K71: =IFERROR(IF(J71<>0,J71*K$131,""),"") | M71: =IFERROR(IF(L71<>0,L71*M$131,""),"") | O71: =IF(N71<>0,N71*O$131,"") | Q71: =IFERROR(IF(P71<>0,P71*Q$131,""),"") | S71: =IFERROR(IF(R71<>0,R71*S$131,""),"") | U71: =IF(SUMIF($F$34:$S$34,$U$34,F71:S71)<>0,SUMIF($F$34:$S$34,$U$34,F71:S71),"") | V71: =IF(AND(U71<>0,U71<>""),U71/U$51,"")
B72: =B$70&"."&ROW(B72)-ROW(B$70) -> F.2 | C72: Impianto di cogenerazione | G72: =IFERROR(IF(F72<>0,F72*G$131,""),"") | I72: =IFERROR(IF(H72<>0,H72*I$131,""),"") | K72: =IFERROR(IF(J72<>0,J72*K$131,""),"") | M72: =IFERROR(IF(L72<>0,L72*M$131,""),"") | O72: =IF(N72<>0,N72*O$131,"") | Q72: =IFERROR(IF(P72<>0,P72*Q$131,""),"") | S72: =IFERROR(IF(R72<>0,R72*S$131,""),"") | U72: =IF(SUMIF($F$34:$S$34,$U$34,F72:S72)<>0,SUMIF($F$34:$S$34,$U$34,F72:S72),"") | V72: =IF(AND(U72<>0,U72<>""),U72/U$51,"")
B73: =B$70&"."&ROW(B73)-ROW(B$70) -> F.3 | C73: Caldaie | G73: =IFERROR(IF(F73<>0,F73*G$131,""),"") | I73: =IFERROR(IF(H73<>0,H73*I$131,""),"") | K73: =IFERROR(IF(J73<>0,J73*K$131,""),"") | M73: =IFERROR(IF(L73<>0,L73*M$131,""),"") | O73: =IF(N73<>0,N73*O$131,"") | Q73: =IFERROR(IF(P73<>0,P73*Q$131,""),"") | S73: =IFERROR(IF(R73<>0,R73*S$131,""),"") | U73: =IF(SUMIF($F$34:$S$34,$U$34,F73:S73)<>0,SUMIF($F$34:$S$34,$U$34,F73:S73),"") | V73: =IF(AND(U73<>0,U73<>""),U73/U$51,"")
B74: =B$70&"."&ROW(B74)-ROW(B$70) -> F.4 | C74: Pompe di calore | G74: =IFERROR(IF(F74<>0,F74*G$131,""),"") | I74: =IFERROR(IF(H74<>0,H74*I$131,""),"") | K74: =IFERROR(IF(J74<>0,J74*K$131,""),"") | M74: =IFERROR(IF(L74<>0,L74*M$131,""),"") | O74: =IF(N74<>0,N74*O$131,"") | Q74: =IFERROR(IF(P74<>0,P74*Q$131,""),"") | S74: =IFERROR(IF(R74<>0,R74*S$131,""),"") | U74: =IF(SUMIF($F$34:$S$34,$U$34,F74:S74)<>0,SUMIF($F$34:$S$34,$U$34,F74:S74),"") | V74: =IF(AND(U74<>0,U74<>""),U74/U$51,"")
B75: =B$70&"."&ROW(B75)-ROW(B$70) -> F.5 | C75: Pompe di calore | G75: =IFERROR(IF(F75<>0,F75*G$131,""),"") | I75: =IFERROR(IF(H75<>0,H75*I$131,""),"") | K75: =IFERROR(IF(J75<>0,J75*K$131,""),"") | M75: =IFERROR(IF(L75<>0,L75*M$131,""),"") | O75: =IF(N75<>0,N75*O$131,"") | Q75: =IFERROR(IF(P75<>0,P75*Q$131,""),"") | S75: =IFERROR(IF(R75<>0,R75*S$131,""),"") | U75: =IF(SUMIF($F$34:$S$34,$U$34,F75:S75)<>0,SUMIF($F$34:$S$34,$U$34,F75:S75),"") | V75: =IF(AND(U75<>0,U75<>""),U75/U$51,"")
C76: Totale Energia per i processi di trasformazione | F76: =SUM(F71:F75) -> 0 | G76: =SUM(G71:G75) -> 0 | H76: =SUM(H71:H75) -> 0 | I76: =SUM(I71:I75) -> 0 | J76: =SUM(J71:J75) -> 0 | K76: =SUM(K71:K75) -> 0 | L76: =SUM(L71:L75) -> 0 | M76: =SUM(M71:M75) -> 0 | ... S76: =SUM(S71:S75) -> 0 | U76: =SUM(U71:U75) -> 0 | V76: =IF(U76<>0,U76/U$51,"")
C77: Di cui rinnovabili | F77: =SUMIF($E71:$E75,"R",F71:F75) -> 0 | G77: =F77*G$131 -> 0 | H77: =SUMIF($E71:$E75,"R",H71:H75) -> 0 | I77: =H77*I$131 -> 0 | J77: =SUMIF($E71:$E75,"R",J71:J75) -> 0 | K77: =J77*K$131 -> 0 | L77: =SUMIF($E71:$E75,"R",L71:L75) -> 0 | M77: =L77*M$131 -> 0 | N77: =SUMIF($E71:$E75,"R",N71:N75) -> 0 | O77: =N77*O$131 -> 0 | P77: =SUMIF($E71:$E75,"R",P71:P75) -> 0 | Q77: =P77*Q$131 -> 0 | R77: =SUMIF($E71:$E75,"R",R71:R75) -> 0 | S77: =R77*S$131 -> 0 | U77: =SUMIF($F$34:$S$34,$U$34,F77:S77) -> 0 | V77: =IF(U77<>0,U77/U$51,"")
B78: G | C78: Energia dai processi di trasformazione
B79: =B$78&"."&ROW(B79)-ROW(B$78) -> G.1 | C79: Impianto di cogenerazione | G79: =IFERROR(IF(F79<>0,F79*G$131,""),"") | I79: =IFERROR(IF(H79<>0,H79*I$131,""),"") | K79: =IFERROR(IF(J79<>0,J79*K$131,""),"") | M79: =IFERROR(IF(L79<>0,L79*M$131,""),"") | O79: =IF(N79<>0,N79*O$131,"") | Q79: =IFERROR(IF(P79<>0,P79*Q$131,""),"") | S79: =IFERROR(IF(R79<>0,R79*S$131,""),"") | U79: =IF(SUMIF($F$34:$S$34,$U$34,F79:S79)<>0,SUMIF($F$34:$S$34,$U$34,F79:S79),"") | V79: =IF(AND(U79<>0,U79<>""),U79/U$51,"")
B80: =B$78&"."&ROW(B80)-ROW(B$78) -> G.2 | C80: Impianto di cogenerazione | G80: =IFERROR(IF(F80<>0,F80*G$131,""),"") | I80: =IFERROR(IF(H80<>0,H80*I$131,""),"") | K80: =IFERROR(IF(J80<>0,J80*K$131,""),"") | M80: =IFERROR(IF(L80<>0,L80*M$131,""),"") | O80: =IF(N80<>0,N80*O$131,"") | Q80: =IFERROR(IF(P80<>0,P80*Q$131,""),"") | S80: =IFERROR(IF(R80<>0,R80*S$131,""),"") | U80: =IF(SUMIF($F$34:$S$34,$U$34,F80:S80)<>0,SUMIF($F$34:$S$34,$U$34,F80:S80),"") | V80: =IF(AND(U80<>0,U80<>""),U80/U$51,"")
B81: =B$78&"."&ROW(B81)-ROW(B$78) -> G.3 | C81: Caldaie | G81: =IFERROR(IF(F81<>0,F81*G$131,""),"") | I81: =IFERROR(IF(H81<>0,H81*I$131,""),"") | K81: =IFERROR(IF(J81<>0,J81*K$131,""),"") | M81: =IFERROR(IF(L81<>0,L81*M$131,""),"") | O81: =IF(N81<>0,N81*O$131,"") | Q81: =IFERROR(IF(P81<>0,P81*Q$131,""),"") | S81: =IFERROR(IF(R81<>0,R81*S$131,""),"") | U81: =IF(SUMIF($F$34:$S$34,$U$34,F81:S81)<>0,SUMIF($F$34:$S$34,$U$34,F81:S81),"") | V81: =IF(AND(U81<>0,U81<>""),U81/U$51,"")
B82: =B$78&"."&ROW(B82)-ROW(B$78) -> G.4 | C82: Pompe di calore | G82: =IFERROR(IF(F82<>0,F82*G$131,""),"") | I82: =IFERROR(IF(H82<>0,H82*I$131,""),"") | K82: =IFERROR(IF(J82<>0,J82*K$131,""),"") | M82: =IFERROR(IF(L82<>0,L82*M$131,""),"") | O82: =IF(N82<>0,N82*O$131,"") | Q82: =IFERROR(IF(P82<>0,P82*Q$131,""),"") | S82: =IFERROR(IF(R82<>0,R82*S$131,""),"") | U82: =IF(SUMIF($F$34:$S$34,$U$34,F82:S82)<>0,SUMIF($F$34:$S$34,$U$34,F82:S82),"") | V82: =IF(AND(U82<>0,U82<>""),U82/U$51,"")
B83: =B$78&"."&ROW(B83)-ROW(B$78) -> G.5 | C83: Pompe di calore | G83: =IFERROR(IF(F83<>0,F83*G$131,""),"") | I83: =IFERROR(IF(H83<>0,H83*I$131,""),"") | K83: =IFERROR(IF(J83<>0,J83*K$131,""),"") | M83: =IFERROR(IF(L83<>0,L83*M$131,""),"") | O83: =IF(N83<>0,N83*O$131,"") | Q83: =IFERROR(IF(P83<>0,P83*Q$131,""),"") | S83: =IFERROR(IF(R83<>0,R83*S$131,""),"") | U83: =IF(SUMIF($F$34:$S$34,$U$34,F83:S83)<>0,SUMIF($F$34:$S$34,$U$34,F83:S83),"") | V83: =IF(AND(U83<>0,U83<>""),U83/U$51,"")
C84: Totale Energia dai processi di trasformazione | F84: =SUM(F79:F83) -> 0 | G84: =SUM(G79:G83) -> 0 | H84: =SUM(H79:H83) -> 0 | I84: =SUM(I79:I83) -> 0 | J84: =SUM(J79:J83) -> 0 | K84: =SUM(K79:K83) -> 0 | L84: =SUM(L79:L83) -> 0 | M84: =SUM(M79:M83) -> 0 | ... S84: =SUM(S79:S83) -> 0 | U84: =SUM(U79:U83) -> 0 | V84: =IF(U84<>0,U84/U$51,"")
C85: Di cui rinnovabili | F85: =SUMIF($E79:$E83,"R",F79:F83) -> 0 | G85: =F85*G$131 -> 0 | H85: =SUMIF($E79:$E83,"R",H79:H83) -> 0 | I85: =H85*I$131 -> 0 | J85: =SUMIF($E79:$E83,"R",J79:J83) -> 0 | K85: =J85*K$131 -> 0 | L85: =SUMIF($E79:$E83,"R",L79:L83) -> 0 | M85: =L85*M$131 -> 0 | N85: =SUMIF($E79:$E83,"R",N79:N83) -> 0 | O85: =N85*O$131 -> 0 | P85: =SUMIF($E79:$E83,"R",P79:P83) -> 0 | Q85: =P85*Q$131 -> 0 | R85: =SUMIF($E79:$E83,"R",R79:R83) -> 0 | S85: =R85*S$131 -> 0 | U85: =SUMIF($F$34:$S$34,$U$34,F85:S85) -> 0 | V85: =IF(U85<>0,U85/U$51,"")
B86: Energia disponibile per gli usi finali | F86: =F68-F76+F84 -> 0 | G86: =G68-G76+G84 -> 0 | H86: =H68-H76+H84 -> 0 | I86: =I68-I76+I84 -> 0 | J86: =J68-J76+J84 -> 0 | K86: =K68-K76+K84 -> 0 | L86: =L68-L76+L84 -> 0 | M86: =M68-M76+M84 -> 0 | ... S86: =S68-S76+S84 -> 0 | U86: =U68-U76+U84 -> 0 | V86: =IF(U86>0,U86/U$51,"")
C87: Di cui rinnovabili | F87: =F69-F77+F85 -> 0 | G87: =F87*G$131 -> 0 | H87: =H69-H77+H85 -> 0 | I87: =H87*I$131 -> 0 | J87: =J69-J77+J85 -> 0 | K87: =J87*K$131 -> 0 | L87: =L69-L77+L85 -> 0 | M87: =L87*M$131 -> 0 | N87: =N69-N77+N85 -> 0 | O87: =N87*O$131 -> 0 | P87: =P69-P77+P85 -> 0 | Q87: =P87*Q$131 -> 0 | R87: =R69-R77+R85 -> 0 | S87: =R87*S$131 -> 0 | U87: =SUMIF($F$34:$S$34,$U$34,F87:S87) -> 0 | V87: =IF(U87>0,U87/U$51,"") | X87: Soglie obbligo di nomina dell'energy manager
X88: Settore industriale | Z88: Altri settori
B89: Consumi convertiti in tep (ai fini della nomina) | F89: =(SUM(F37:F39)+SUM(F43:F48)-SUM(F64:F65))*F138 -> 0 | H89: =(SUM(H37:H39)+SUM(H43:H48)-SUM(H64:H65))*H138 -> 0 | J89: =(SUM(J37:J39)+SUM(J43:J48)-SUM(J64:J65))*J138 -> 0 | L89: =(SUM(L37:L39)+SUM(L43:L48)-SUM(L64:L65))*L138 -> 0 | N89: =(SUM(N37:N39)+SUM(N43:N48)-SUM(N64:N65))*N138 -> 0 | P89: =(SUM(P37:P39)+SUM(P43:P48)-SUM(P64:P65))*P138 -> 0 | R89: =(SUM(R37:R39)+SUM(R43:R48)-SUM(R64:R65))*R138 -> 0 | U89: Totale tep | V89: =SUM(F89:S89) -> 0 | X89: 10000 | Y89: tep | Z89: 1000 | AA89: tep
X90: =IF($V89>=X89,"Obbligo di nomina se settore industriale","") | Z90: =IF($V89>=Z89,"Obbligo di nomina se settore diverso dall'industriale","")
B92: Tabella degli Impieghi
J93: IMPIEGO DI ENERGIA FINALE
F94: =F32 -> I | H94: =H32 -> II | J94: =J32 -> III | L94: =L32 -> IV | N94: =N32 -> V | P94: =P32 -> VI | R94: =R32 -> VII
B95: Tabella degli Impieghi | F95: =IF(LEN(F33)=0,"",F33) | H95: =IF(LEN(H33)=0,"",H33) | J95: =IF(LEN(J33)=0,"",J33) | L95: =IF(LEN(L33)=0,"",L33) | N95: =IF(LEN(N33)=0,"",N33) | P95: =IF(LEN(P33)=0,"",P33) | R95: =IF(LEN(R33)=0,"",R33) | U95: Totale | X95: CO2
B96: Anno: | F96: =IF(F34="","-",F34) -> - | G96: =G34 -> TJ | H96: =IF(H34="","-",H34) -> - | I96: =I34 -> TJ | J96: =IF(J34="","-",J34) -> - | K96: =K34 -> TJ | L96: =IF(L34="","-",L34) -> - | M96: =M34 -> TJ | N96: =IF(N34="","-",N34) -> - | O96: =O34 -> TJ | P96: =IF(P34="","-",P34) -> - | Q96: =Q34 -> TJ | R96: =IF(R34="","-",R34) -> - | S96: =S34 -> TJ | U96: =$H$157 -> TJ | V96: % | X96: t
B97: =B27 -> 2024
B98: K | C98: Funzionamento degli edifici
B99: =B$98&"."&ROW(B99)-ROW(B$98) -> K.1 | C99: Riscaldamento | G99: =IFERROR(IF(F99<>0,F99*G$131,""),"") | I99: =IFERROR(IF(H99<>0,H99*I$131,""),"") | K99: =IFERROR(IF(J99<>0,J99*K$131,""),"") | M99: =IFERROR(IF(L99<>0,L99*M$131,""),"") | O99: =IFERROR(IF(N99<>0,N99*O$131,""),"") | Q99: =IFERROR(IF(P99<>0,P99*Q$131,""),"") | S99: =IFERROR(IF(R99<>0,R99*S$131,""),"") | U99: =IF(SUMIF($F$96:$S$96,$U$96,F99:S99)<>0,SUMIF($F$96:$S$96,$U$96,F99:S99),"") | V99: =IF(AND(U99<>0,U99<>""),U99/U$51,"") | X99: =IF(SUMPRODUCT(F99:S99,$F$152:$S$152)<>0,SUMPRODUCT(F99:S99,$F$152:$S$152),"")
B100: =B$98&"."&ROW(B100)-ROW(B$98) -> K.2 | C100: Climatizzazione Produzione | G100: =IFERROR(IF(F100<>0,F100*G$131,""),"") | I100: =IFERROR(IF(H100<>0,H100*I$131,""),"") | K100: =IFERROR(IF(J100<>0,J100*K$131,""),"") | M100: =IFERROR(IF(L100<>0,L100*M$131,""),"") | O100: =IFERROR(IF(N100<>0,N100*O$131,""),"") | Q100: =IFERROR(IF(P100<>0,P100*Q$131,""),"") | S100: =IFERROR(IF(R100<>0,R100*S$131,""),"") | U100: =IF(SUMIF($F$96:$S$96,$U$96,F100:S100)<>0,SUMIF($F$96:$S$96,$U$96,F100:S100),"") | V100: =IF(AND(U100<>0,U100<>""),U100/U$51,"") | X100: =IF(SUMPRODUCT(F100:S100,$F$152:$S$152)<>0,SUMPRODUCT(F100:S100,$F$152:$S$152),"")
B101: =B$98&"."&ROW(B101)-ROW(B$98) -> K.3 | C101: Illuminazione interna ed esterna | G101: =IFERROR(IF(F101<>0,F101*G$131,""),"") | I101: =IFERROR(IF(H101<>0,H101*I$131,""),"") | K101: =IFERROR(IF(J101<>0,J101*K$131,""),"") | M101: =IFERROR(IF(L101<>0,L101*M$131,""),"") | O101: =IFERROR(IF(N101<>0,N101*O$131,""),"") | Q101: =IFERROR(IF(P101<>0,P101*Q$131,""),"") | S101: =IFERROR(IF(R101<>0,R101*S$131,""),"") | U101: =IF(SUMIF($F$96:$S$96,$U$96,F101:S101)<>0,SUMIF($F$96:$S$96,$U$96,F101:S101),"") | V101: =IF(AND(U101<>0,U101<>""),U101/U$51,"") | X101: =IF(SUMPRODUCT(F101:S101,$F$152:$S$152)<>0,SUMPRODUCT(F101:S101,$F$152:$S$152),"")
B102: =B$98&"."&ROW(B102)-ROW(B$98) -> K.4 | C102: Forza motrice/illuminazione/climatizzazione uffici | G102: =IFERROR(IF(F102<>0,F102*G$131,""),"") | I102: =IFERROR(IF(H102<>0,H102*I$131,""),"") | K102: =IFERROR(IF(J102<>0,J102*K$131,""),"") | M102: =IFERROR(IF(L102<>0,L102*M$131,""),"") | O102: =IFERROR(IF(N102<>0,N102*O$131,""),"") | Q102: =IFERROR(IF(P102<>0,P102*Q$131,""),"") | S102: =IFERROR(IF(R102<>0,R102*S$131,""),"") | U102: =IF(SUMIF($F$96:$S$96,$U$96,F102:S102)<>0,SUMIF($F$96:$S$96,$U$96,F102:S102),"") | V102: =IF(AND(U102<>0,U102<>""),U102/U$51,"") | X102: =IF(SUMPRODUCT(F102:S102,$F$152:$S$152)<>0,SUMPRODUCT(F102:S102,$F$152:$S$152),"")
B103: =B$98&"."&ROW(B103)-ROW(B$98) -> K.5 | C103: Mensa | G103: =IFERROR(IF(F103<>0,F103*G$131,""),"") | I103: =IFERROR(IF(H103<>0,H103*I$131,""),"") | K103: =IFERROR(IF(J103<>0,J103*K$131,""),"") | M103: =IFERROR(IF(L103<>0,L103*M$131,""),"") | O103: =IFERROR(IF(N103<>0,N103*O$131,""),"") | Q103: =IFERROR(IF(P103<>0,P103*Q$131,""),"") | S103: =IFERROR(IF(R103<>0,R103*S$131,""),"") | U103: =IF(SUMIF($F$96:$S$96,$U$96,F103:S103)<>0,SUMIF($F$96:$S$96,$U$96,F103:S103),"") | V103: =IF(AND(U103<>0,U103<>""),U103/U$51,"") | X103: =IF(SUMPRODUCT(F103:S103,$F$152:$S$152)<>0,SUMPRODUCT(F103:S103,$F$152:$S$152),"")
B104: =B$98&"."&ROW(B104)-ROW(B$98) -> K.6 | C104: Altro K | G104: =IFERROR(IF(F104<>0,F104*G$131,""),"") | I104: =IFERROR(IF(H104<>0,H104*I$131,""),"") | K104: =IFERROR(IF(J104<>0,J104*K$131,""),"") | M104: =IFERROR(IF(L104<>0,L104*M$131,""),"") | O104: =IFERROR(IF(N104<>0,N104*O$131,""),"") | Q104: =IFERROR(IF(P104<>0,P104*Q$131,""),"") | S104: =IFERROR(IF(R104<>0,R104*S$131,""),"") | U104: =IF(SUMIF($F$96:$S$96,$U$96,F104:S104)<>0,SUMIF($F$96:$S$96,$U$96,F104:S104),"") | V104: =IF(AND(U104<>0,U104<>""),U104/U$51,"") | X104: =IF(SUMPRODUCT(F104:S104,$F$152:$S$152)<>0,SUMPRODUCT(F104:S104,$F$152:$S$152),"")
C105: Totale Funzionamento degli edifici | F105: =SUM(F99:F104) -> 0 | G105: =SUM(G99:G104) -> 0 | H105: =SUM(H99:H104) -> 0 | I105: =SUM(I99:I104) -> 0 | J105: =SUM(J99:J104) -> 0 | K105: =SUM(K99:K104) -> 0 | L105: =SUM(L99:L104) -> 0 | M105: =SUM(M99:M104) -> 0 | ... S105: =SUM(S99:S104) -> 0 | U105: =SUM(U99:U104) -> 0 | V105: =SUM(V99:V104) -> 0 | X105: {=SUM(((F105:S105)*$F$152:$S$152))} -> 0
B106: L | C106: Processo di produzione
B107: =B$106&"."&ROW(B107)-ROW(B$106) -> L.1 | C107: Asciugatura UP1 | G107: =IFERROR(IF(F107<>0,F107*G$131,""),"") | I107: =IFERROR(IF(H107<>0,H107*I$131,""),"") | K107: =IFERROR(IF(J107<>0,J107*K$131,""),"") | M107: =IFERROR(IF(L107<>0,L107*M$131,""),"") | O107: =IFERROR(IF(N107<>0,N107*O$131,""),"") | Q107: =IFERROR(IF(P107<>0,P107*Q$131,""),"") | S107: =IFERROR(IF(R107<>0,R107*S$131,""),"") | U107: =IF(SUMIF($F$96:$S$96,$U$96,F107:S107)<>0,SUMIF($F$96:$S$96,$U$96,F107:S107),"") | V107: =IF(AND(U107<>0,U107<>""),U107/U$51,"") | X107: =IF(SUMPRODUCT(F107:S107,$F$152:$S$152)<>0,SUMPRODUCT(F107:S107,$F$152:$S$152),"")
B108: =B$106&"."&ROW(B108)-ROW(B$106) -> L.2 | C108: Asciugatura UP4 | G108: =IFERROR(IF(F108<>0,F108*G$131,""),"") | I108: =IFERROR(IF(H108<>0,H108*I$131,""),"") | K108: =IFERROR(IF(J108<>0,J108*K$131,""),"") | M108: =IFERROR(IF(L108<>0,L108*M$131,""),"") | O108: =IFERROR(IF(N108<>0,N108*O$131,""),"") | Q108: =IFERROR(IF(P108<>0,P108*Q$131,""),"") | S108: =IFERROR(IF(R108<>0,R108*S$131,""),"") | U108: =IF(SUMIF($F$96:$S$96,$U$96,F108:S108)<>0,SUMIF($F$96:$S$96,$U$96,F108:S108),"") | V108: =IF(AND(U108<>0,U108<>""),U108/U$51,"") | X108: =IF(SUMPRODUCT(F108:S108,$F$152:$S$152)<>0,SUMPRODUCT(F108:S108,$F$152:$S$152),"")
B109: =B$106&"."&ROW(B109)-ROW(B$106) -> L.3 | C109: Lavaggio UP4 | G109: =IFERROR(IF(F109<>0,F109*G$131,""),"") | I109: =IFERROR(IF(H109<>0,H109*I$131,""),"") | K109: =IFERROR(IF(J109<>0,J109*K$131,""),"") | M109: =IFERROR(IF(L109<>0,L109*M$131,""),"") | O109: =IFERROR(IF(N109<>0,N109*O$131,""),"") | Q109: =IFERROR(IF(P109<>0,P109*Q$131,""),"") | S109: =IFERROR(IF(R109<>0,R109*S$131,""),"") | U109: =IF(SUMIF($F$96:$S$96,$U$96,F109:S109)<>0,SUMIF($F$96:$S$96,$U$96,F109:S109),"") | V109: =IF(AND(U109<>0,U109<>""),U109/U$51,"") | X109: =IF(SUMPRODUCT(F109:S109,$F$152:$S$152)<>0,SUMPRODUCT(F109:S109,$F$152:$S$152),"")
...

Sheet Tabella parametri standard naz
