Workbook
Name DatiGrafico: OFFSET('Tabelle Risorse e Impieghi'!$AH$7,,,COUNTA(_xlfn.ANCHORARRAY('Tabelle Risorse e Impieghi'!$AG$7)),1)
Name NomiGrafico: OFFSET('Tabelle Risorse e Impieghi'!$AG$7,,,COUNTA(_xlfn.ANCHORARRAY('Tabelle Risorse e Impieghi'!$AG$7)),1)
Name servizio: 'Tabelle Risorse e Impieghi'!$T$161:$T$186
Name Vettori_en: 'Tabelle Risorse e Impieghi'!$C$161:$C$186

Sheet Tabelle Risorse e Impieghi
F1: Contabilità Energetica e nomima dell'energy manager
O3: R01s 19/3/2025
F6: La presente cartella vuole essere uno strumento di supporto per gli energy manager e gli EGE alla contabilità energetica.
F7: È stato integrato il calcolo dei consumi per la nomina dell'energy manager ai sensi della legge 10/1991. Al fine di evitare errori di calcolo, dal momento che le logiche alla base della contabilità energetica possono non essere coincidenti con quelle dell'art. 19 della legge 10/1991,
F8: si rimanda a quanto indicato nel sito https://em.fire-italia.org (incluse le FAQ) circa il corretto conteggio dei consumi ai fini della nomina stessa.
F9: ="Per la nomina dell'energy manager vengono conteggiate le sezioni A, B ed E, ovvero dalla riga "&ROW(C36)+1& " alla riga "&ROW(C49)-1&" e dalla riga "&ROW(C63)+1& " alla riga "&ROW(C66)-1&". Il risultato è alla riga "&ROW(C89)&"." -> Per la nomina dell'energy manager vengono conteggiate le sezioni A, B ed E, ovvero dalla riga 37 alla riga 48 e dalla riga 64 alla riga 65. Il risultato è alla riga 89.
F11: ="Si possono inserire o modificare i dati delle celle bianche (solo nelle tabelle 'risorse', 'impieghi' e 'fattori di conversione'), gialle e verdi. Alle righe "&ROW(B33)&" e "&ROW(C34)&" scegliere prima il vettore e poi l'unità di misura. →" -> Si possono inserire o modificare i dati delle celle bianche (solo nelle tabelle 'risorse', 'impieghi' e 'fattori di conversione'), gialle e verdi. Alle righe 33 e 34 scegliere prima il vettore e poi l'unità di misura. →
F13: Le seguenti tabelle si basano sulla guida alla contabilità energetica sviluppata in collaborazione tra FIRE e AssoEGE.
F14: https://fire-italia.org/proposta-di-modello-comune-per-la-contabilita-energetica-rivolta-ai-consumatori-di-energia-finale/
F16: N.B. In questa cartella sono stati utilizzati i coefficienti di conversione fra unità di misura impiegati nel foglio per la nomina dell'energy manager ai sensi della legge 10/1991.
F17: ="È possibile utilizzare valori più precisi, soprattutto per combustibili come le biomasse solide e acquisti di fluidi termovettori, laddove disponibili, inserendoli nella tabella '"&C159&"' cella "&ADDRESS(ROW(C159),COLUMN(C159),4,1)&" Vedi anche '"&I191&"' cella "&ADDRESS(ROW(I191),COLUMN(I191),4,1)&"." -> È possibile utilizzare valori più precisi, soprattutto per combustibili come le biomasse solide e acquisti di fluidi termovettori, laddove disponibili, inserendoli nella tabella 'FATTORI DI CONVERSIONE' cella C159 Vedi anche 'N.B. si possono aggiungere:' cella I191.
F18: Nel caso della conversione in tep di elettricità e calore si ricorda che per la nomina dell'energy manager si tiene conto anche delle perdite di trasformazione e/o trasporto.
F19: Questo porta a una differenza rispetto a sistemi statistici come Eurostat, di cui occorre tenere conto. Nella conversione in MWh e TJ è stato invece usato l'approccio Eurostat (no perdite di trasformazione, 1MWhe=1MWht=1MWh).
F20: ="L'unità di misura comune può essere scelta (cella "&ADDRESS(ROW(H157),COLUMN(H157),4,1)&") tra TJ, MWh o tep, ma è possibile sostituirle con altre, inserendo i coefficienti di conversione nella tabella '"&Y159&"'. Vedi anche '"&I191&"' cella "&ADDRESS(ROW(I191),COLUMN(I191),4,1)&"." -> L'unità di misura comune può essere scelta (cella H157) tra TJ, MWh o tep, ma è possibile sostituirle con altre, inserendo i coefficienti di conversione nella tabella 'Unità di misura standardizzata (UMC)'. Vedi anche 'N.B. si possono aggiungere:' cella I191.
F22: I fattori di emissione per i combustibili sono quelli del meccanismo emission trading (quindi CO2 e non CO2eq vedi tabella nel foglio "Tabella parametri standard nazionali") in particolare quelli riferiti al contenuto energetico del vettore (es. tCO2/TJ).
F23: Nel caso di teleriscaldamento, servizio energia, etc. verificare i valori con il fornitore. Per la scelta del coefficiente di emissione dell'energia elettrica ci sono approcci diversi, verificare con fornitore e altri portatori di interesse.
F24: Non sono invece stati considerati i poteri calorifici presenti nella tabella stessa, che differiscono da quelli usati per la nomina dell'energy manager. Questo porta ad alcune differenze, soprattutto per biomasse solide.
F25: ="Anche per i fattori di emissione è possibile inserire nella tabella "&AH159&" (cella "&ADDRESS(ROW(AH159),COLUMN(AH159),4,1)&") valori differenti qualora sia opportuno; per esempio nel caso della rendicontazione non finanziaria della sostenibilità." -> Anche per i fattori di emissione è possibile inserire nella tabella FATTORI DI EMISSIONE (cella AH159) valori differenti qualora sia opportuno; per esempio nel caso della rendicontazione non finanziaria della sostenibilità.
B26: Anno: | F26: ="I fattori di emissione per la '"&B92&"' possono essere diversi (per esempio se ci sono pompe di calore, cogenerazione, etc.). Si possono quindi inserire fattori di emissione ad hoc sotto la cella "&ADDRESS(ROW(AD160),COLUMN(AD160),4,1)&" '"&AD160&"'." -> I fattori di emissione per la 'Tabella degli Impieghi' possono essere diversi (per esempio se ci sono pompe di calore, cogenerazione, etc.). Si possono quindi inserire fattori di emissione ad hoc sotto la cella AD160 'FE impieghi'.
B27: 2024
F28: FIRE declina ogni responsabiltà per ogni eventuale danno o problema causato dall'uso di questa cartella di lavoro.
B30: Tabella delle Risorse
B31: APPROVVIGIONAMENTO, PRODUZIONE INTERNA, VENDITA, ACCUMULO, USO NON-ENERGETICO, TRASFORMAZIONE
F32: =ROMAN(1+QUOTIENT(COLUMN(F32)-COLUMN($F32),2)) -> I | H32: =ROMAN(1+QUOTIENT(COLUMN(H32)-COLUMN($F32),2)) -> II | J32: =ROMAN(1+QUOTIENT(COLUMN(J32)-COLUMN($F32),2)) -> III | L32: =ROMAN(1+QUOTIENT(COLUMN(L32)-COLUMN($F32),2)) -> IV | N32: =ROMAN(1+QUOTIENT(COLUMN(N32)-COLUMN($F32),2)) -> V | P32: =ROMAN(1+QUOTIENT(COLUMN(P32)-COLUMN($F32),2)) -> VI | R32: =ROMAN(1+QUOTIENT(COLUMN(R32)-COLUMN($F32),2)) -> VII
B33: Tabella delle Risorse | U33: Totale | X33: CO2
B34: Anno: | G34: =$H$157 -> TJ | I34: =$H$157 -> TJ | K34: =$H$157 -> TJ | M34: =$H$157 -> TJ | O34: =$H$157 -> TJ | Q34: =$H$157 -> TJ | S34: =$H$157 -> TJ | U34: =$H$157 -> TJ | V34: % | X34: t
B35: =B27 -> 2024
B36: A | C36: Approvvigionamenti energetici lordi
B37: =B$36&"."&ROW(B37)-ROW(B$36) -> A.1 | C37: Da utility pubbliche (es. rete elettrica, rete gas) | G37: =IFERROR(IF(F37<>0,F37*G$131,""),"") | I37: =IFERROR(IF(H37<>0,H37*I$131,""),"") | K37: =IFERROR(IF(J37<>0,J37*K$131,""),"") | M37: =IFERROR(IF(L37<>0,L37*M$131,""),"") | O37: =IFERROR(IF(N37<>0,N37*O$131,""),"") | Q37: =IFERROR(IF(P37<>0,P37*Q$131,""),"") | S37: =IFERROR(IF(R37<>0,R37*S$131,""),"") | U37: =IF(SUMIF($F$34:$S$34,$U$34,F37:S37)<>0,SUMIF($F$34:$S$34,$U$34,F37:S37),"") | V37: =IF(AND(U37<>0,U37<>""),U37/U$51,"") | X37: =IF(SUMPRODUCT(F37:S37,$F$145:$S$145)<>0,IF(E37<>"R",SUMPRODUCT(F37:S37,$F$145:$S$145),0),"")
B38: =B$36&"."&ROW(B38)-ROW(B$36) -> A.2 | C38: Fornitura in batch (es. autocisterna) | G38: =IFERROR(IF(F38<>0,F38*G$131,""),"") | I38: =IFERROR(IF(H38<>0,H38*I$131,""),"") | K38: =IFERROR(IF(J38<>0,J38*K$131,""),"") | M38: =IFERROR(IF(L38<>0,L38*M$131,""),"") | O38: =IFERROR(IF(N38<>0,N38*O$131,""),"") | Q38: =IFERROR(IF(P38<>0,P38*Q$131,""),"") | S38: =IFERROR(IF(R38<>0,R38*S$131,""),"") | U38: =IF(SUMIF($F$34:$S$34,$U$34,F38:S38)<>0,SUMIF($F$34:$S$34,$U$34,F38:S38),"") | V38: =IF(AND(U38<>0,U38<>""),U38/U$51,"") | X38: =IF(SUMPRODUCT(F38:S38,$F$145:$S$145)<>0,IF(D39<>"R",SUMPRODUCT(F38:S38,$F$145:$S$145),0),"")
B39: =B$36&"."&ROW(B39)-ROW(B$36) -> A.3 | C39: Da attività di generazione in loco gestite da terzi | G39: =IFERROR(IF(F39<>0,F39*G$131,""),"") | I39: =IFERROR(IF(H39<>0,H39*I$131,""),"") | K39: =IFERROR(IF(J39<>0,J39*K$131,""),"") | M39: =IFERROR(IF(L39<>0,L39*M$131,""),"") | O39: =IFERROR(IF(N39<>0,N39*O$131,""),"") | Q39: =IFERROR(IF(P39<>0,P39*Q$131,""),"") | S39: =IFERROR(IF(R39<>0,R39*S$131,""),"") | U39: =IF(SUMIF($F$34:$S$34,$U$34,F39:S39)<>0,SUMIF($F$34:$S$34,$U$34,F39:S39),"") | V39: =IF(AND(U39<>0,U39<>""),U39/U$51,"") | X39: =IF(SUMPRODUCT(F39:S39,$F$145:$S$145)<>0,IF(E39<>"R",SUMPRODUCT(F39:S39,$F$145:$S$145),0),"")
B40: Totale approvvigionamenti energetici lordi | F40: =SUM(F37:F39) -> 0 | G40: =SUM(G37:G39) -> 0 | H40: =SUM(H37:H39) -> 0 | I40: =SUM(I37:I39) -> 0 | J40: =SUM(J37:J39) -> 0 | K40: =SUM(K37:K39) -> 0 | L40: =SUM(L37:L39) -> 0 | M40: =SUM(M37:M39) -> 0 | ... S40: =SUM(S37:S39) -> 0 | U40: =SUM(U36:U39) -> 0 | V40: =IF(U40<>0,U40/U$51,"") | X40: {=IF(SUM(((F40:S40)-(F41:S41))*$F$145:$S$145)<>0,SUM(((F40:S40)-(F41:S41))*$F$145:$S$145),"")}
C41: Di cui rinnovabili | F41: =SUMIF($E37:$E39,"R",F37:F39) -> 0 | G41: =F41*G$131 -> 0 | H41: =SUMIF($E37:$E39,"R",H37:H39) -> 0 | I41: =H41*I$131 -> 0 | J41: =SUMIF($E37:$E39,"R",J37:J39) -> 0 | K41: =J41*K$131 -> 0 | L41: =SUMIF($E37:$E39,"R",L37:L39) -> 0 | M41: =L41*M$131 -> 0 | N41: =SUMIF($E37:$E39,"R",N37:N39) -> 0 | O41: =N41*O$131 -> 0 | P41: =SUMIF($E37:$E39,"R",P37:P39) -> 0 | Q41: =P41*Q$131 -> 0 | R41: =SUMIF($E37:$E39,"R",R37:R39) -> 0 | S41: =R41*S$131 -> 0 | U41: =SUMIF($F$34:$S$34,$U$34,F41:S41) -> 0 | V41: =IF(U41<>0,U41/U$51,"")
B42: B | C42: Produzione e recupero di energia nel confine
B43: =B$42&"."&ROW(B43)-ROW(B$42) -> B.1 | C43: Impianto biogas | G43: =IFERROR(IF(F43<>0,F43*G$131,""),"") | I43: =IFERROR(IF(H43<>0,H43*I$131,""),"") | K43: =IFERROR(IF(J43<>0,J43*K$131,""),"") | M43: =IF(L43<>0,L43*M$131,"") | O43: =IFERROR(IF(N43<>0,N43*O$131,""),"") | Q43: =IFERROR(IF(P43<>0,P43*Q$131,""),"") | S43: =IFERROR(IF(R43<>0,R43*S$131,""),"") | U43: =IF(SUMIF($F$34:$S$34,$U$34,F43:S43)<>0,SUMIF($F$34:$S$34,$U$34,F43:S43),"") | V43: =IF(AND(U43<>0,U43<>""),U43/U$51,"") | X43: =IF(SUMPRODUCT(F43:S43,$F$145:$S$145)<>0,IF(E43<>"R",SUMPRODUCT(F43:S43,$F$145:$S$145),0),"")
B44: =B$42&"."&ROW(B44)-ROW(B$42) -> B.2 | C44: Impianto solare termico | G44: =IFERROR(IF(F44<>0,F44*G$131,""),"") | I44: =IFERROR(IF(H44<>0,H44*I$131,""),"") | K44: =IFERROR(IF(J44<>0,J44*K$131,""),"") | M44: =IF(L44<>0,L44*M$131,"") | O44: =IFERROR(IF(N44<>0,N44*O$131,""),"") | Q44: =IFERROR(IF(P44<>0,P44*Q$131,""),"") | S44: =IFERROR(IF(R44<>0,R44*S$131,""),"") | U44: =IF(SUMIF($F$34:$S$34,$U$34,F44:S44)<>0,SUMIF($F$34:$S$34,$U$34,F44:S44),"") | V44: =IF(AND(U44<>0,U44<>""),U44/U$51,"") | X44: =IF(SUMPRODUCT(F44:S44,$F$145:$S$145)<>0,IF(E44<>"R",SUMPRODUCT(F44:S44,$F$145:$S$145),0),"")
B45: =B$42&"."&ROW(B45)-ROW(B$42) -> B.3 | C45: Impianto fotovoltaico | G45: =IFERROR(IF(F45<>0,F45*G$131,""),"") | I45: =IFERROR(IF(H45<>0,H45*I$131,""),"") | K45: =IFERROR(IF(J45<>0,J45*K$131,""),"") | M45: =IF(L45<>0,L45*M$131,"") | O45: =IFERROR(IF(N45<>0,N45*O$131,""),"") | Q45: =IFERROR(IF(P45<>0,P45*Q$131,""),"") | S45: =IFERROR(IF(R45<>0,R45*S$131,""),"") | U45: =IF(SUMIF($F$34:$S$34,$U$34,F45:S45)<>0,SUMIF($F$34:$S$34,$U$34,F45:S45),"") | V45: =IF(AND(U45<>0,U45<>""),U45/U$51,"") | X45: =IF(SUMPRODUCT(F45:S45,$F$145:$S$145)<>0,IF(E45<>"R",SUMPRODUCT(F45:S45,$F$145:$S$145),0),"")
B46: =B$42&"."&ROW(B46)-ROW(B$42) -> B.4 | C46: Energia termica recuperata dall'ambiente | G46: =IFERROR(IF(F46<>0,F46*G$131,""),"") | I46: =IFERROR(IF(H46<>0,H46*I$131,""),"") | K46: =IFERROR(IF(J46<>0,J46*K$131,""),"") | M46: =IF(L46<>0,L46*M$131,"") | O46: =IFERROR(IF(N46<>0,N46*O$131,""),"") | Q46: =IFERROR(IF(P46<>0,P46*Q$131,""),"") | S46: =IFERROR(IF(R46<>0,R46*S$131,""),"") | U46: =IF(SUMIF($F$34:$S$34,$U$34,F46:S46)<>0,SUMIF($F$34:$S$34,$U$34,F46:S46),"") | V46: =IF(AND(U46<>0,U46<>""),U46/U$51,"") | X46: =IF(SUMPRODUCT(F46:S46,$F$145:$S$145)<>0,IF(E46<>"R",SUMPRODUCT(F46:S46,$F$145:$S$145),0),"")
B47: =B$42&"."&ROW(B47)-ROW(B$42) -> B.5 | C47: Energia termica recuperata da processi sul sito | G47: =IFERROR(IF(F47<>0,F47*G$131,""),"") | I47: =IFERROR(IF(H47<>0,H47*I$131,""),"") | K47: =IFERROR(IF(J47<>0,J47*K$131,""),"") | M47: =IF(L47<>0,L47*M$131,"") | O47: =IFERROR(IF(N47<>0,N47*O$131,""),"") | Q47: =IFERROR(IF(P47<>0,P47*Q$131,""),"") | S47: =IFERROR(IF(R47<>0,R47*S$131,""),"") | U47: =IF(SUMIF($F$34:$S$34,$U$34,F47:S47)<>0,SUMIF($F$34:$S$34,$U$34,F47:S47),"") | V47: =IF(AND(U47<>0,U47<>""),U47/U$51,"") | X47: =IF(SUMPRODUCT(F47:S47,$F$145:$S$145)<>0,IF(E47<>"R",SUMPRODUCT(F47:S47,$F$145:$S$145),0),"")
B48: =B$42&"."&ROW(B48)-ROW(B$42) -> B.6 | C48: Energia da scarti della produzione | G48: =IFERROR(IF(F48<>0,F48*G$131,""),"") | I48: =IFERROR(IF(H48<>0,H48*I$131,""),"") | K48: =IFERROR(IF(J48<>0,J48*K$131,""),"") | M48: =IF(L48<>0,L48*M$131,"") | O48: =IFERROR(IF(N48<>0,N48*O$131,""),"") | Q48: =IFERROR(IF(P48<>0,P48*Q$131,""),"") | S48: =IFERROR(IF(R48<>0,R48*S$131,""),"") | U48: =IF(SUMIF($F$34:$S$34,$U$34,F48:S48)<>0,SUMIF($F$34:$S$34,$U$34,F48:S48),"") | V48: =IF(AND(U48<>0,U48<>""),U48/U$51,"") | X48: =IF(SUMPRODUCT(F48:S48,$F$145:$S$145)<>0,IF(E48<>"R",SUMPRODUCT(F48:S48,$F$145:$S$145),0),"")
...

Sheet Tabella parametri standard naz
